BEGIN:VCALENDAR
VERSION:2.0
PRODID:-//South Side Community Art Center - ECPv6.15.20//NONSGML v1.0//EN
CALSCALE:GREGORIAN
METHOD:PUBLISH
X-WR-CALNAME:South Side Community Art Center
X-ORIGINAL-URL:https://sscartcenter.org
X-WR-CALDESC:Events for South Side Community Art Center
REFRESH-INTERVAL;VALUE=DURATION:PT1H
X-Robots-Tag:noindex
X-PUBLISHED-TTL:PT1H
BEGIN:VTIMEZONE
TZID:America/Chicago
BEGIN:DAYLIGHT
TZOFFSETFROM:-0600
TZOFFSETTO:-0500
TZNAME:CDT
DTSTART:20230312T080000
END:DAYLIGHT
BEGIN:STANDARD
TZOFFSETFROM:-0500
TZOFFSETTO:-0600
TZNAME:CST
DTSTART:20231105T070000
END:STANDARD
BEGIN:DAYLIGHT
TZOFFSETFROM:-0600
TZOFFSETTO:-0500
TZNAME:CDT
DTSTART:20240310T080000
END:DAYLIGHT
BEGIN:STANDARD
TZOFFSETFROM:-0500
TZOFFSETTO:-0600
TZNAME:CST
DTSTART:20241103T070000
END:STANDARD
BEGIN:DAYLIGHT
TZOFFSETFROM:-0600
TZOFFSETTO:-0500
TZNAME:CDT
DTSTART:20250309T080000
END:DAYLIGHT
BEGIN:STANDARD
TZOFFSETFROM:-0500
TZOFFSETTO:-0600
TZNAME:CST
DTSTART:20251102T070000
END:STANDARD
END:VTIMEZONE
BEGIN:VEVENT
DTSTART;TZID=America/Chicago:20240310T120000
DTEND;TZID=America/Chicago:20240310T130000
DTSTAMP:20260420T133522
CREATED:20240312T200950Z
LAST-MODIFIED:20240312T202905Z
UID:10031-1710072000-1710075600@sscartcenter.org
SUMMARY:Flash\, Focus: A Camera Demo Workshop with Latitude Chicago.
DESCRIPTION:Join us for a camera demo workshop to learn the basics of photography!\n\n\n\n\n\nLatitude’s Executive Director Colleen Keihm and current Artist in Resident Anwulika Angibo will host a Camera Demo workshop here at the Southside Community Art Center in a special continuing partnership with Latitude Chicago.\n\nGuests are invited to bring an analog or digital camera to the workshop to learn more about manual settings\, lighting\, and digital output methods like how to upload and change image size.\n\n\n  \n \n  \nAnwulika Anigbo (b. Nigeria 1987) is a Chicago-based artist tracing the historical and somatic roots of everyday life as it is practiced within blackness through imagery and processes. Anwulika’s work chronicles and investigates self-determination\, presence\, knowledge production\, and memory. Her work has been exhibited at The Czong Institute for Contemporary Art (South Korea)\, Chicago Artist Coalition (Chicago)\, EXPO Chicago with FOR FREEDOMS (Chicago) and the NXTHVN (New Haven). She was recently a 22-23 Fellow with the Economic Security Project\, the 22-23 Artist in Residence at Chicago Athletic Association\, a 21-22 Artist in Residence at the Chicago Artist Coalition\, and a 2022 3Arts Ignite Fund Awardee.\n\nHer work is included in the collection at 21c Museum\, Ryan Lee Gallery\, and various private collections.\n  \n \n  \nColleen Keihm is the Executive Director at Latitude\, a Chicago digital lab with high-end printing and scanning equipment that operates an artist in residence program and organizes arts programming. She received her MFA at the University of Illinois at Chicago and a BS in Photography at Drexel University in Philadelphia. Her work has been exhibited in Chicago at Flatland\, Roman Susan\, Filter Photo\, and Tiger Strikes Asteroid. She has been an artist in residence at Hatch Projects at the Chicago Artist Coalition\, Institut fur alles Mogliche in Berlin\, Germany\, and currently at Writing Space.\n\nIn addition to her role at Latitude\, she is an educator in the Photography Department at University of Illinois at Chicago.
URL:https://sscartcenter.org/event/flash-focus-a-camera-demo-workshop-with-latitude-chicago/
LOCATION:IL
CATEGORIES:Events
ATTACH;FMTTYPE=image/jpeg:https://sscartcenter.org/wp-content/uploads/2024/03/Gordon-Parks-with-Contax-II-courtesy-Gordon-Parks-Foundation.jpg
END:VEVENT
BEGIN:VEVENT
DTSTART;TZID=America/Chicago:20240330T130000
DTEND;TZID=America/Chicago:20240330T150000
DTSTAMP:20260420T133522
CREATED:20240329T205130Z
LAST-MODIFIED:20240329T205130Z
UID:10054-1711803600-1711810800@sscartcenter.org
SUMMARY:BLACK WOMEN ENTREPRENEURS AS WORLDBUILDERS
DESCRIPTION:Join us for a conversation with several Black women creative entrepreneurs traversing fashion\, vintage\, and design here in Chicago.  \n\n\n  \n \n\n\n\n\n\n\n\n\n\nSSCAC is proud to host a panel of Black women entrepreneurs whose business models have been crafted to be intentionally centered on fashion\, style\, vintage\, design and jewelry – creating worlds and community within their respective businesses and practices! Featured panelists will include stylist and fashion archivist Mallory Talty\, Jeneba Koroma of Limba Gal\, Shari Currie of Recycled Modern\, and Gilda Norris of Gilda’s Designer Boutique!\n\n  \n\n\n \n\n\n\n  \nBridging vintage and contemporary focused projects\, businesses\, and ventures\, the panel will focus on their collective and individual experiences as entrepreneurs\, the uniqueness of their practices in Chicago\, their creative influences\, and the ambitious decisions they’ve made along the way.
URL:https://sscartcenter.org/event/black-women-entrepreneurs-as-worldbuilders/
LOCATION:IL
CATEGORIES:Events
ATTACH;FMTTYPE=image/png:https://sscartcenter.org/wp-content/uploads/2024/03/SSCAC_BW-WORLDBUILDERS.png
END:VEVENT
END:VCALENDAR