BEGIN:VCALENDAR
VERSION:2.0
PRODID:-//South Side Community Art Center - ECPv6.15.20//NONSGML v1.0//EN
CALSCALE:GREGORIAN
METHOD:PUBLISH
X-ORIGINAL-URL:https://sscartcenter.org
X-WR-CALDESC:Events for South Side Community Art Center
REFRESH-INTERVAL;VALUE=DURATION:PT1H
X-Robots-Tag:noindex
X-PUBLISHED-TTL:PT1H
BEGIN:VTIMEZONE
TZID:America/Chicago
BEGIN:DAYLIGHT
TZOFFSETFROM:-0600
TZOFFSETTO:-0500
TZNAME:CDT
DTSTART:20230312T080000
END:DAYLIGHT
BEGIN:STANDARD
TZOFFSETFROM:-0500
TZOFFSETTO:-0600
TZNAME:CST
DTSTART:20231105T070000
END:STANDARD
BEGIN:DAYLIGHT
TZOFFSETFROM:-0600
TZOFFSETTO:-0500
TZNAME:CDT
DTSTART:20240310T080000
END:DAYLIGHT
BEGIN:STANDARD
TZOFFSETFROM:-0500
TZOFFSETTO:-0600
TZNAME:CST
DTSTART:20241103T070000
END:STANDARD
BEGIN:DAYLIGHT
TZOFFSETFROM:-0600
TZOFFSETTO:-0500
TZNAME:CDT
DTSTART:20250309T080000
END:DAYLIGHT
BEGIN:STANDARD
TZOFFSETFROM:-0500
TZOFFSETTO:-0600
TZNAME:CST
DTSTART:20251102T070000
END:STANDARD
END:VTIMEZONE
BEGIN:VEVENT
DTSTART;TZID=America/Chicago:20241206T180000
DTEND;TZID=America/Chicago:20241206T200000
DTSTAMP:20260421T082843
CREATED:20241003T165508Z
LAST-MODIFIED:20241031T123058Z
UID:10209-1733508000-1733515200@sscartcenter.org
SUMMARY:Family Table: Hearth
DESCRIPTION:Join SkyART for Family Table: Hearth\, an interactive dinner and performance featuring a collaborative shared soup created by two local chefs. Each chef will blend their unique traditions and cultures to create a community pot of soup for guests. Soup\, made from simple\, often leftover ingredients\, signifies resourcefulness and sustainability\, transforming what might otherwise be wasted into a nourishing meal. Central to the exhibition is SkyART’s newly imagined mobile food cart\, showcased as a medium\, an artist’s studio\, and an artwork. This series seeks to highlight themes of social justice and community reclamation\, through the experience of both service and consumption.
URL:https://sscartcenter.org/event/family-table-hearth/
LOCATION:SkyART South\, 3026 E 91st St\, Chicago\, IL\, 60617\, United States
CATEGORIES:Events,ReSOURCE
ATTACH;FMTTYPE=image/png:https://sscartcenter.org/wp-content/uploads/2024/10/SkyART-Family-Table-Ad.png
END:VEVENT
BEGIN:VEVENT
DTSTART;TZID=America/Chicago:20241026T110000
DTEND;TZID=America/Chicago:20241026T160000
DTSTAMP:20260421T082843
CREATED:20241003T164245Z
LAST-MODIFIED:20241031T123107Z
UID:10207-1729940400-1729958400@sscartcenter.org
SUMMARY:Harvest Festival
DESCRIPTION:Join us for a celebration of the end of the growing season\, with food\, entertainment\, and presentations by our Youth Farmers. Kids and costumes are welcome!
URL:https://sscartcenter.org/event/harvest-festival/
LOCATION:Bronzeville Neighborhood Farm\, 4148 S Calumet Ave\, Chicago\, IL\, 60653\, United States
CATEGORIES:Events,ReSOURCE
ATTACH;FMTTYPE=image/png:https://sscartcenter.org/wp-content/uploads/2024/10/BNF-Harvest-Festival-Ad.png
END:VEVENT
BEGIN:VEVENT
DTSTART;TZID=America/Chicago:20241019T130000
DTEND;TZID=America/Chicago:20241019T150000
DTSTAMP:20260421T082843
CREATED:20241003T170358Z
LAST-MODIFIED:20241031T123119Z
UID:10214-1729342800-1729350000@sscartcenter.org
SUMMARY:Resilience & Renewal: Connecting with the Earth\, the Ancestor and Your Hidden Gifts
DESCRIPTION:Join Khadijah Kysia and Rhonda Wheatley for this hands-on workshop to explore and strengthen our resilience—our brilliance\, our ability to make a way out of no way\, and our capacity for self-renewal\, body\, mind\, and spirit. Khadijah\, a Doctor of Acupuncture and Oriental Medicine\, will provide an interactive primer on herbs involving taste and touch. Rhonda\, a multimedia artist and energy worker\, will share tools and practices for connecting with ancestors\, often a source of our resilience; for connecting with the earth; balancing our energies; and calling forth our hidden gifts. She’ll facilitate a guided meditation\, discuss crystals\, consult the tarot\, and provide writing exercises. Bring a journal and an open mind. You are welcome to participate at your level of comfort.
URL:https://sscartcenter.org/event/resilience-renewal-connecting-with-the-earth-the-ancestor-and-your-hidden-gifts/
LOCATION:South Side Community Art Center\, 3831 S Michigan Ave\, Chicago\, IL\, 60653\, United States
CATEGORIES:Events,ReSOURCE
ATTACH;FMTTYPE=image/png:https://sscartcenter.org/wp-content/uploads/2024/10/HEALING-WORKSHOP.png
END:VEVENT
BEGIN:VEVENT
DTSTART;TZID=America/Chicago:20240914T120000
DTEND;TZID=America/Chicago:20240914T150000
DTSTAMP:20260421T082843
CREATED:20240917T180843Z
LAST-MODIFIED:20240925T102815Z
UID:10179-1726315200-1726326000@sscartcenter.org
SUMMARY:Opening Reception for ReSOURCE
DESCRIPTION:Join us for the opening of ReSOURCE: Art and Resourcefulness in Black Chicago
URL:https://sscartcenter.org/event/opening-reception-for-resource/
LOCATION:South Side Community Art Center\, 3831 S Michigan Ave\, Chicago\, IL\, 60653\, United States
CATEGORIES:Events,ReSOURCE
ATTACH;FMTTYPE=image/png:https://sscartcenter.org/wp-content/uploads/2024/09/ReSource-opening.png
END:VEVENT
BEGIN:VEVENT
DTSTART;TZID=America/Chicago:20240831T140000
DTEND;TZID=America/Chicago:20240831T160000
DTSTAMP:20260421T082843
CREATED:20240917T180203Z
LAST-MODIFIED:20240917T180203Z
UID:10169-1725112800-1725120000@sscartcenter.org
SUMMARY:Garden Griots: Community Storytelling with Candace Hunter
DESCRIPTION:Join us on August 31st at Bronzeville Neighborhood Farm for a program as part of ReSOURCE: Art and Resourcefulness in Black Chicago.\n  \n\nArtist Candace Hunter will unveil a public art piece\, commissioned as part of ReSOURCE\, that captures the stories of Bronzeville residents\, reflecting their lived experiences and voices.\n  \n\nThis program honors the rich tradition of oral history and the griot’s role in preserving collective memory. It also celebrates our deep connection to the land at Bronzeville Neighborhood Farm\, a vital source of community and cultural resilience. Come engage with the narratives that have shaped our neighborhood and contribute to the ongoing legacy of Black creativity in Chicago.\n  \n\nReSOURCE is part of Art Design Chicago\, a citywide collaboration initiated by the Terra Foundation for American Art that highlights the city’s artistic heritage and creative communities.
URL:https://sscartcenter.org/event/garden-griots-community-storytelling-with-candace-hunter/
LOCATION:Bronzeville Neighborhood Farm\, 4148 S Calumet Ave\, Chicago\, IL\, 60653\, United States
CATEGORIES:Events,ReSOURCE
ATTACH;FMTTYPE=image/png:https://sscartcenter.org/wp-content/uploads/2024/09/garden-giots.png
END:VEVENT
BEGIN:VEVENT
DTSTART;TZID=America/Chicago:20240727T093000
DTEND;TZID=America/Chicago:20240727T120000
DTSTAMP:20260421T082843
CREATED:20240917T180036Z
LAST-MODIFIED:20240917T180036Z
UID:10172-1722072600-1722081600@sscartcenter.org
SUMMARY:The Power of our Ancestors and Re(membrance)
DESCRIPTION:From Jean Baptiste Point duSable\, Ida B. Wells to Chairman Fred Hampton and Late Mayor Harold Washington and so many elders\, we will share story\, ritual and co-create a series of individual ancestral and community vessels from found and living objects and materials and also weave a community Agon or Ancestral garment that we will co-create with organic materials\, fabric\, clothing and organic materials.\n  \n\n\nNot required: Please feel free to bring an item of clothing\, cloth\, embellishments that evoke memory of your ancestors\, relative or community loved one to contribute to this place based installation that will be tended by our collective community members.\n  \n\n\nErika R. Allen shares her diverse sources of inspiration\, ranging from her parents’ influence on her appreciation for the arts and farming\, to artists like Jonathan Green and Joseph Cornell\, and writers like bell hooks and Toni Morrison. She also discusses her connection to her ancestral roots and learning from elders within different cultural traditions.\n  \n\n\nThis workshop is hosted in partnership with South Side Community Art Center (SSCAC)\, the oldest African American art center in the United States and a Chicago Historic Landmark. SSCAC showcases established artists and nurtures emerging creators. Through educational and artistic programs\, exhibitions\, talks\, tours\, and more\, the center strives to engage\, educate and connect community members to African American art and artists.\n  \n\n\nSupported by the Terra Foundation for American Art
URL:https://sscartcenter.org/event/the-power-of-our-ancestors-and-remembrance/
LOCATION:South Chicago Farm\, 9001 S Mackinaw Ave\, Chicago\, IL\, 60617\, United States
CATEGORIES:Events,ReSOURCE
ATTACH;FMTTYPE=image/png:https://sscartcenter.org/wp-content/uploads/2024/09/power-ancestors.png
END:VEVENT
END:VCALENDAR