BEGIN:VCALENDAR
VERSION:2.0
PRODID:-//South Side Community Art Center - ECPv6.15.20//NONSGML v1.0//EN
CALSCALE:GREGORIAN
METHOD:PUBLISH
X-ORIGINAL-URL:https://sscartcenter.org
X-WR-CALDESC:Events for South Side Community Art Center
REFRESH-INTERVAL;VALUE=DURATION:PT1H
X-Robots-Tag:noindex
X-PUBLISHED-TTL:PT1H
BEGIN:VTIMEZONE
TZID:America/Chicago
BEGIN:DAYLIGHT
TZOFFSETFROM:-0600
TZOFFSETTO:-0500
TZNAME:CDT
DTSTART:20230312T080000
END:DAYLIGHT
BEGIN:STANDARD
TZOFFSETFROM:-0500
TZOFFSETTO:-0600
TZNAME:CST
DTSTART:20231105T070000
END:STANDARD
BEGIN:DAYLIGHT
TZOFFSETFROM:-0600
TZOFFSETTO:-0500
TZNAME:CDT
DTSTART:20240310T080000
END:DAYLIGHT
BEGIN:STANDARD
TZOFFSETFROM:-0500
TZOFFSETTO:-0600
TZNAME:CST
DTSTART:20241103T070000
END:STANDARD
BEGIN:DAYLIGHT
TZOFFSETFROM:-0600
TZOFFSETTO:-0500
TZNAME:CDT
DTSTART:20250309T080000
END:DAYLIGHT
BEGIN:STANDARD
TZOFFSETFROM:-0500
TZOFFSETTO:-0600
TZNAME:CST
DTSTART:20251102T070000
END:STANDARD
END:VTIMEZONE
BEGIN:VEVENT
DTSTART;TZID=America/Chicago:20240409T170000
DTEND;TZID=America/Chicago:20240409T190000
DTSTAMP:20260422T070930
CREATED:20240404T030334Z
LAST-MODIFIED:20240404T030550Z
UID:10069-1712682000-1712689200@sscartcenter.org
SUMMARY:BENDING LIGHT ARTIST TALK: SOUTH SIDE NIGHT x EXPO CHICAGO
DESCRIPTION:Join us for an artist talk moderated by Paul Branton!\n\n\n\n\n\n\n\n\n\n\n\n\n\n\n\nPaul Branton\, artist and curator of SSCAC’s current exhibition BendingLight\, will facilitate an artist talk with the exhibiting artists of SSCAC’s current exhibition Bending Light\, detailing the exhibition’s themes and subject matter as it relates to explorations of color and identity.\n  \n\n\n\n \n\n\n\n\n\n\n\nThe artists explore the impact of color on Black identity\, potential\, and the intricate interplay between societal perceptions and individual existence. Artists will include Eddie “Edo” Santana\, Pearlie Taylor\, Courtney Collins\, Robert Lewis Clark\, and Bryant Lamont.\n  \nAs the official start of EXPO ART WEEK\, South Side Night features exhibitions\, tours\, talks\, and performances. Visitors are encouraged to explore the many galleries\, museums\, and exhibition spaces in this dynamic community for arts and culture. Inaugurated in 2012\, EXPO CHICAGO draws upon the city’s rich history as a vibrant international cultural destination\, while highlighting the region’s contemporary arts community. In 2023\, EXPO CHICAGO was acquired by Frieze\, the world’s leading platform for modern and contemporary art.
URL:https://sscartcenter.org/event/bending-light-artist-talk-south-side-night-x-expo-chicago/
LOCATION:IL
CATEGORIES:Events
ATTACH;FMTTYPE=image/jpeg:https://sscartcenter.org/wp-content/uploads/2024/04/NM26136-scaled.jpg
END:VEVENT
END:VCALENDAR