BEGIN:VCALENDAR
VERSION:2.0
PRODID:-//South Side Community Art Center - ECPv6.15.20//NONSGML v1.0//EN
CALSCALE:GREGORIAN
METHOD:PUBLISH
X-WR-CALNAME:South Side Community Art Center
X-ORIGINAL-URL:https://sscartcenter.org
X-WR-CALDESC:Events for South Side Community Art Center
REFRESH-INTERVAL;VALUE=DURATION:PT1H
X-Robots-Tag:noindex
X-PUBLISHED-TTL:PT1H
BEGIN:VTIMEZONE
TZID:America/Chicago
BEGIN:DAYLIGHT
TZOFFSETFROM:-0600
TZOFFSETTO:-0500
TZNAME:CDT
DTSTART:20220313T080000
END:DAYLIGHT
BEGIN:STANDARD
TZOFFSETFROM:-0500
TZOFFSETTO:-0600
TZNAME:CST
DTSTART:20221106T070000
END:STANDARD
BEGIN:DAYLIGHT
TZOFFSETFROM:-0600
TZOFFSETTO:-0500
TZNAME:CDT
DTSTART:20230312T080000
END:DAYLIGHT
BEGIN:STANDARD
TZOFFSETFROM:-0500
TZOFFSETTO:-0600
TZNAME:CST
DTSTART:20231105T070000
END:STANDARD
BEGIN:DAYLIGHT
TZOFFSETFROM:-0600
TZOFFSETTO:-0500
TZNAME:CDT
DTSTART:20240310T080000
END:DAYLIGHT
BEGIN:STANDARD
TZOFFSETFROM:-0500
TZOFFSETTO:-0600
TZNAME:CST
DTSTART:20241103T070000
END:STANDARD
END:VTIMEZONE
BEGIN:VEVENT
DTSTART;TZID=America/Chicago:20230812T130000
DTEND;TZID=America/Chicago:20230812T150000
DTSTAMP:20260420T122109
CREATED:20230809T023244Z
LAST-MODIFIED:20230809T023244Z
UID:9890-1691845200-1691852400@sscartcenter.org
SUMMARY:PACE Artist Catalyst: A Closing Celebration
DESCRIPTION:Join us to celebrate PACE Artist Catalysts Cecil McDonald Jr. & Andrea Yarbrough.\n  \n \n  \n\n\nJoin us with artists Cecil McDonald Jr. & Andrea Yarbrough to celebrate their commissioned artworks as part of their PACE Artist Catalyst Award!\nA conversation will take place with the artists\, and Essence McDowell\, a communications strategist\, organizer and coauthor of two books\, including the recently released\, “Lifting As They Climbed: Mapping a History of Trailblazing Black Women in Chicago”. We’ll also have sounds from DJ Celeste Alexander and catering from Taylor’s Tacos !\n\n\n\n\n\nAndrea Yarbrough’s 2023 installation Collective Steps is an homage to the scores of Black women committed to sustaining the South Side Community Arts Center. Centered on mapping the stories of understudied Black women\, Yarbrough’s approach has been focused on Fern Gayden\, who was a leader\, writer\, and organizer. A founding member of the South Side Writers Group in the 1930s\, Fern Gayden’s long and diverse career included leadership roles in the Women’s International League for Peace and Freedom and the South Side Community Art Center.\n  \n \n\n  \n\nCecil McDonald’s 2022 installation Metropolis: A City In Black\, is a public viewing installation in the historic bay window of the venerable South Side Community Art Center. Over six months\, McDonald traversed the streets\, parks\, beaches\, porches\, and neighborhoods in and around Bronzeville. Photographing friends\, strangers\, and passersby from a mobile studio\, McDonald created both formal and candid portraits; the portraits\, collaged with moving abstract imagery\, create an odyssey of humanity infused with all the unique sensibility and tempo of black life in the metropolis.\n  \n\n \n\n\n\nAndrea and Cecil’s commission were supported by the Public Art & Civic Engagement Capacity Building Initiative\, granted to the South Side Community Art Center from Mural Arts Institute\, a program of Mural Arts Philadelphia.\n\n\n 
URL:https://sscartcenter.org/event/pace-artist-catalyst-a-closing-celebration/
CATEGORIES:Events
ATTACH;FMTTYPE=image/png:https://sscartcenter.org/wp-content/uploads/2023/08/PACE-EVENT.png
END:VEVENT
END:VCALENDAR